BEGIN:VCALENDAR
VERSION:2.0
PRODID:-//LymeDisease.org - ECPv4.9.2//NONSGML v1.0//EN
CALSCALE:GREGORIAN
METHOD:PUBLISH
X-WR-CALNAME:LymeDisease.org
X-ORIGINAL-URL:https://www.lymedisease.org
X-WR-CALDESC:Events for LymeDisease.org
BEGIN:VEVENT
DTSTART;TZID=America/New_York:20240920T160000
DTEND;TZID=America/New_York:20240920T173000
DTSTAMP:20260420T035840
CREATED:20240910T223326Z
LAST-MODIFIED:20240910T223326Z
UID:461508-1726848000-1726853400@www.lymedisease.org
SUMMARY:PODCAST: A deep dive into mast cell activation syndrome (MCAS)
DESCRIPTION:From Researched Nutritionals: \n\n\nProtocols in Action: Live Podcast \n\n\n\n\nThe Intersection of MCAS\, Hypercoagulability and Biofilms in Healing the Complex Chronic Patient  \n\n\nJoin us for a deep dive into mast cell activation syndrome (MCAS) with the esteemed Dr. Kelly McCann\, MD. This will be a live podcast on September 20\, at 4 pm ET/ 1 pm PT. \nAs a leading expert in integrative\, functional\, and environmental medicine\, Dr. McCann has dedicated her career to unraveling complex health issues\, including MCAS\, a condition that affects many but is often misunderstood. \nIn this episode\, we explore the nuances of MCAS—what triggers it\, how it manifests\, and most importantly\, how to manage it effectively. Dr. McCann shares her extensive knowledge on the intersection of environmental exposures\, chronic infections\, and the immune system’s role in MCAS. \nWe’ll discuss practical strategies for identifying and managing this condition\, drawing on Dr. McCann’s years of clinical experience and her holistic approach to patient care. \nWhether you’re a healthcare professional looking to expand your understanding of MCAS or someone seeking answers to your health challenges\, this episode offers valuable insights. Together\, we’ll uncover the tools and protocols that can help regain control over mast cell responses and improve overall health. \nClick here to register for this live podcast. \n
URL:https://www.lymedisease.org/event/webinar-mcas-biofilms/
ATTACH;FMTTYPE=image/jpeg:https://www.lymedisease.org/wp-content/uploads/2024/09/nutri.jpg
END:VEVENT
END:VCALENDAR