BEGIN:VCALENDAR
VERSION:2.0
PRODID:-//LymeDisease.org - ECPv4.9.2//NONSGML v1.0//EN
CALSCALE:GREGORIAN
METHOD:PUBLISH
X-WR-CALNAME:LymeDisease.org
X-ORIGINAL-URL:https://www.lymedisease.org
X-WR-CALDESC:Events for LymeDisease.org
BEGIN:VEVENT
DTSTART;TZID=America/Los_Angeles:20260512T193000
DTEND;TZID=America/Los_Angeles:20260512T210000
DTSTAMP:20260420T104311
CREATED:20260410T215135Z
LAST-MODIFIED:20260410T215135Z
UID:481762-1778614200-1778619600@www.lymedisease.org
SUMMARY:WEBINAR: Healing Chronic Illness/Tick-borne Diseases and Preventing Future Cognitive Decline.
DESCRIPTION:Registration is now open for a special zoom presentation by Dr. Richard Horowitz on May 12\, 7:30 p.m. ET/4:30 p.m. PT. \nDr. Horowitz will speak on the topic of Healing Chronic Illness/Tick-borne Diseases and Preventing Future Cognitive Decline. \nThe event is co-sponsored by four Lyme patient organizations: LymeDisease.org\, Colorado Tick-Borne Disease Awareness Association\, Greater Kansas City Lyme Association\, and the Minnesota Lyme Association. \nThere’s no charge\, but registration is required. \nClick here for more information and to register. \n \n
URL:https://www.lymedisease.org/event/webinar-healing-chronic-illness-tick-borne-diseases-and-preventing-future-cognitive-decline/
ATTACH;FMTTYPE=image/jpeg:https://www.lymedisease.org/wp-content/uploads/2026/04/dr-H2.jpg
END:VEVENT
END:VCALENDAR