BEGIN:VCALENDAR
VERSION:2.0
PRODID:-//LymeDisease.org - ECPv4.9.2//NONSGML v1.0//EN
CALSCALE:GREGORIAN
METHOD:PUBLISH
X-WR-CALNAME:LymeDisease.org
X-ORIGINAL-URL:https://www.lymedisease.org
X-WR-CALDESC:Events for LymeDisease.org
BEGIN:VEVENT
DTSTART;TZID=America/Los_Angeles:20190227T180000
DTEND;TZID=America/Los_Angeles:20190227T210000
DTSTAMP:20260420T063010
CREATED:20190201T170545Z
LAST-MODIFIED:20190201T170545Z
UID:29810-1551290400-1551301200@www.lymedisease.org
SUMMARY:Lyme Disease: A Public Health Perspective\, Lafayette\, CA
DESCRIPTION:Wednesday\, February 27. Sunjya Schweig\, MD\, Board certified in integrative and holistic medicine (ABIHM) and family practice (FAAFP) will discuss Lyme prevention and how to keep your family safe from tick-borne diseases. \nCaregiver Emily Fairbairn will also speak about her family’s Lyme journey since their diagnosis in the fall of 2017. \nLocation: Lafayette Library and Learning Center\, 3491 Mt. Diablo Boulevard\, Lafayette\, CA 94549 \nClick here for more information. \n
URL:https://www.lymedisease.org/event/schweig-lafayette-ca/
LOCATION:Lafayette Library and Learning Center\, 3491 Mt. Diablo Boulevard\, Lafayette\, CA\, 94549
ATTACH;FMTTYPE=image/jpeg:https://www.lymedisease.org/wp-content/uploads/2019/02/Sunjya-204x280.jpg
END:VEVENT
END:VCALENDAR