BEGIN:VCALENDAR
VERSION:2.0
PRODID:-//LymeDisease.org - ECPv4.9.2//NONSGML v1.0//EN
CALSCALE:GREGORIAN
METHOD:PUBLISH
X-WR-CALNAME:LymeDisease.org
X-ORIGINAL-URL:https://www.lymedisease.org
X-WR-CALDESC:Events for LymeDisease.org
BEGIN:VEVENT
DTSTART;TZID=America/Los_Angeles:20181027T160000
DTEND;TZID=America/Los_Angeles:20181027T170000
DTSTAMP:20260420T062913
CREATED:20181005T143432Z
LAST-MODIFIED:20181005T143432Z
UID:26665-1540656000-1540659600@www.lymedisease.org
SUMMARY:Pfeiffer to speak on growing threat of Lyme disease\, Salisbury\, CT
DESCRIPTION:Mary Beth Pfeiffer\, author of “Lyme: The First Epidemic of Climate Change\,” will speak at Scoville Memorial Library\, in Salisbury\, CT\, at 4 pm October 27. \nSince 2012\, Pfeiffer has emerged as the nation’s leading investigative reporter on Lyme disease\, attracting national and international attention and garnering seven awards for her groundbreaking articles on this tick-borne scourge. \nReviewers have called her book “superbly written and researched”; “a powerful wake-up call”; and “a work of breadth and depth\, impressively documented and elegant.” \n
URL:https://www.lymedisease.org/event/salisbury-ct-oct27/
LOCATION:Scoville Memorial Library\, 38 Main Street\, Salisbury\, CT\, 06068
GEO:41.9862302;-73.4208526
X-APPLE-STRUCTURED-LOCATION;VALUE=URI;X-ADDRESS=Scoville Memorial Library 38 Main Street Salisbury CT 06068;X-APPLE-RADIUS=500;X-TITLE=38 Main Street:geo:-73.4208526,41.9862302
ATTACH;FMTTYPE=image/png:https://www.lymedisease.org/wp-content/uploads/2018/10/scoville.png
END:VEVENT
END:VCALENDAR