BEGIN:VCALENDAR
VERSION:2.0
PRODID:-//LymeDisease.org - ECPv4.9.2//NONSGML v1.0//EN
CALSCALE:GREGORIAN
METHOD:PUBLISH
X-WR-CALNAME:LymeDisease.org
X-ORIGINAL-URL:https://www.lymedisease.org
X-WR-CALDESC:Events for LymeDisease.org
BEGIN:VEVENT
DTSTART;TZID=America/Los_Angeles:20240919T080000
DTEND;TZID=America/Los_Angeles:20240920T170000
DTSTAMP:20260420T063422
CREATED:20240719T155104Z
LAST-MODIFIED:20240719T155104Z
UID:459340-1726732800-1726851600@www.lymedisease.org
SUMMARY:Lyme and Tick-Borne Disease Summit\, Syracuse\, NY
DESCRIPTION:The Central New York Lyme & Tick-Borne Disease Alliance is hosting its third annual Lyme Summit on September 19 & 20 at the CNY Biotech Accelerator in Syracuse\, NY. \nIt is geared towards healthcare providers\, but is open to everyone. \nSPEAKERS: \n\nKatie Anderson\, MD PhD\, Onondaga County Health Commissioner\nJohn Aucott\, MD\, Johns Hopkins University\nRoss Boyce\, MD\, MSc\, UNC Chapel Hill\nRoberta DeBiasi\, MD\, Children’s National Hospital\, Washington DC\nLauren Eadline\, NP\, SUNY Upstate Medical University\nBrian Fallon\, MD\, MPH\, Columbia University\nErol Fikrig\, MD\, Yale School of Medicine\nPeter Krause\, MD\, Yale School of Medicine\nBrian Leydet\, PhD\, SUNY ESF\nDoug MacQueen\, MD\, Cayuga Health\nKris Paolino\, MD\, SUNY Upstate Medical University\nPatient panel: Carly Mayenzet\, Madison Pinckney\, Royale Scuderi\nSaravanan Thangamani\, PhD\, SUNY Upstate Medical University\nJennifer White\, MPH\, NYS Department of Health\n\nClick here for more information. \n
URL:https://www.lymedisease.org/event/lyme-summit-syracuse-ny/
ATTACH;FMTTYPE=image/jpeg:https://www.lymedisease.org/wp-content/uploads/2024/07/cny-2024-summit2.jpg
END:VEVENT
END:VCALENDAR