BEGIN:VCALENDAR
VERSION:2.0
PRODID:-//LymeDisease.org - ECPv4.9.2//NONSGML v1.0//EN
CALSCALE:GREGORIAN
METHOD:PUBLISH
X-WR-CALNAME:LymeDisease.org
X-ORIGINAL-URL:https://www.lymedisease.org
X-WR-CALDESC:Events for LymeDisease.org
BEGIN:VEVENT
DTSTART;TZID=America/Los_Angeles:20181027T080000
DTEND;TZID=America/Los_Angeles:20181028T150000
DTSTAMP:20260420T080425
CREATED:20180824T183901Z
LAST-MODIFIED:20180824T184028Z
UID:25939-1540627200-1540738800@www.lymedisease.org
SUMMARY:Lyme Disease Association conference\, Providence\, Rhode Island
DESCRIPTION:The Lyme Disease Association announces its 19th annual scientific conference\, Lyme & Tick-Borne Diseases: Turning the Corner Through Research\, will be held October 27 & 28\, 2018 in Providence\, RI at the landmark Marriott Providence Downtown hotel. Once again\, Columbia University jointly provides this educational conference with the LDA. \nThis conference is designed for medical & health professionals & researchers. The conference is also open for the general public to register. Adults only. Scholarships for conference/transportation available for medical students\, residents\, post-doctoral candidates\, fellows\, veterinarians with equivalent status to the above\, and nurse practitioner candidates. \nTopics of the conference include\, phase 1 of a post-mortem study on borrelia & the brain\, new treatments for borrelia persisters\, biomarkers of Lyme\, metabolomic features of chronic illness\, small fiber peripheral neuropathy\, borrelia immune evasion and persistence\, alpha-gal meat allergy\, serologic diagnosis of TBD\, the invasive longhorn tick in the US\, genetic modifications of ticks\, babesia treatments\, Powassan\, cancer research & the diagnosis and treatment of TBD; Borrelia Miyamotoi\, prevention strategies and vaccine development; and concurrent TBD case report & literature review. \nClick here for more information. \n
URL:https://www.lymedisease.org/event/lyme-disease-association-conference-providence-rhode-island/
LOCATION:Marriott Providence Downtown Hotel\, 1 Orms Street\, Providence\, Rhode Island\, 02904
GEO:41.8358913;-71.4137098
X-APPLE-STRUCTURED-LOCATION;VALUE=URI;X-ADDRESS=Marriott Providence Downtown Hotel 1 Orms Street Providence Rhode Island 02904;X-APPLE-RADIUS=500;X-TITLE=1 Orms Street:geo:-71.4137098,41.8358913
ATTACH;FMTTYPE=image/png:https://www.lymedisease.org/wp-content/uploads/2018/08/LDA-logo-smaller.png
ORGANIZER;CN="Lyme%20Disease%20Association%2C%20Inc.":MAILTO:LDA@LymeDiseaseAssociation.org
END:VEVENT
END:VCALENDAR