BEGIN:VCALENDAR
VERSION:2.0
PRODID:-//LymeDisease.org - ECPv4.9.2//NONSGML v1.0//EN
CALSCALE:GREGORIAN
METHOD:PUBLISH
X-WR-CALNAME:LymeDisease.org
X-ORIGINAL-URL:https://www.lymedisease.org
X-WR-CALDESC:Events for LymeDisease.org
BEGIN:VEVENT
DTSTART;TZID=America/Los_Angeles:20260514T170000
DTEND;TZID=America/Los_Angeles:20260514T193000
DTSTAMP:20260420T103801
CREATED:20260417T171758Z
LAST-MODIFIED:20260417T171758Z
UID:481963-1778778000-1778787000@www.lymedisease.org
SUMMARY:Center for Lyme Action's Congressional Lyme Series\, Washington DC
DESCRIPTION:from the Center for Lyme Action: \nPlease join us in Washington\, D.C. on May 14 for an important discussion about the critical need for improving therapeutics for Lyme and tick-borne diseases. \nRegister today. \nWith millions of Americans impacted by Lyme and tick-borne diseases\, patients urgently need improved treatment outcomes and expanded access to effective care. \nThis educational event will feature Brian A. Fallon\, MD\, MPH\,  Director of the first national Columbia Clinical Trials Network Coordinating Center (CTNCC) for Lyme and Other Tick-borne Diseases and Nicole Bell\, CEO of Galaxy Diagnostics and author of the State of Lyme Disease Research. \nOur speakers will discuss the current landscape of treatment options\, persistent challenges in care\, and opportunities to accelerate innovation in therapeutics. \nWhere: 2044 Rayburn House Office Building\, Washington\, DC 20002\nWhen: Wednesday\, May 14\, 2026 from 5-7:30pm\, doors open at 4:30pm\nFormat: In-person only. \nAgenda \n\nWelcome\nOpening Remarks by Members of Congress\nState of Lyme Disease Therapeutics Research – Nicole Bell\, CEO Galaxy Diagnostics\nKeynote: Dr. Brian Fallon\, Director\, Columbia Clinical Trials Network Coordinating Center for Lyme and Other Tick-borne Diseases\nReception 6:00 – 7:30\n\nWe look forward to seeing you in Washington\, D.C. Register here. \n
URL:https://www.lymedisease.org/event/congressional-lyme-series/
ATTACH;FMTTYPE=image/jpeg:https://www.lymedisease.org/wp-content/uploads/2025/01/center-for-lyme-action-logo.jpg
END:VEVENT
END:VCALENDAR